BEGIN:VCALENDAR
VERSION:2.0
PRODID:gruene-emden.de
METHOD:PUBLISH
BEGIN:VTIMEZONE
TZID:Europe/Berlin
X-LIC-LOCATION:Europe/Berlin
BEGIN:DAYLIGHT
TZOFFSETFROM:+0100
TZOFFSETTO:+0200
TZNAME:CEST
DTSTART:19700329T020000
RRULE:FREQ=YEARLY;INTERVAL=1;BYDAY=-1SU;BYMONTH=3
END:DAYLIGHT
BEGIN:STANDARD
TZOFFSETFROM:+0200
TZOFFSETTO:+0100
TZNAME:CET
DTSTART:19701025T030000
RRULE:FREQ=YEARLY;INTERVAL=1;BYDAY=-1SU;BYMONTH=10
END:STANDARD
END:VTIMEZONE
BEGIN:VEVENT
UID:132c39819c4982e1a18af7980ad5f92e@gruene-emden.de
URL;VALUE=URI:https://gruene-emden.de/termine/landesparteitag-in-emden/
LOCATION:Nordseehalle, Früchteburger Weg 17-19, Emden
SUMMARY:Landesparteitag in Emden
DESCRIPTION;ALTREP="data:text/html,%0A%3Cp%3EDelegierte%20aus%20allen%20K
 reisverb%C3%A4nden%20von%20B%C3%BCndnis%2090%20%2F%20Die%20Gr%C3%BCnen%20
 Niedersachsen%20treffen%20sich%20in%20Emden%2C%20um%20%C3%BCber%20die%20P
 osition%20unserer%20Partei%20zu%20Themen%2C%20die%20Niedersachsen%20beweg
 en%2C%20zu%20diskutieren.%3C%2Fp%3E%0A":Delegierte aus allen Kreisverbän
 den von Bündnis 90 / Die Grünen Niedersachsen treffen sich in Emden\, u
 m über die Position unserer Partei zu Themen\, die Niedersachsen bewegen
 \, zu diskutieren.
CLASS:PUBLIC
DTSTART;TZID=Europe/Berlin:20260425T140000
DTEND;TZID=Europe/Berlin:20260426T140000
DTSTAMP:20260423T115756
END:VEVENT
END:VCALENDAR