BEGIN:VCALENDAR
VERSION:2.0
PRODID:gruene-emden.de
METHOD:PUBLISH
BEGIN:VTIMEZONE
TZID:Europe/Berlin
X-LIC-LOCATION:Europe/Berlin
BEGIN:DAYLIGHT
TZOFFSETFROM:+0100
TZOFFSETTO:+0200
TZNAME:CEST
DTSTART:19700329T020000
RRULE:FREQ=YEARLY;INTERVAL=1;BYDAY=-1SU;BYMONTH=3
END:DAYLIGHT
BEGIN:STANDARD
TZOFFSETFROM:+0200
TZOFFSETTO:+0100
TZNAME:CET
DTSTART:19701025T030000
RRULE:FREQ=YEARLY;INTERVAL=1;BYDAY=-1SU;BYMONTH=10
END:STANDARD
END:VTIMEZONE
BEGIN:VEVENT
UID:ec456d1848f2dbb60ea3960556ed7374@gruene-emden.de
URL;VALUE=URI:https://gruene-emden.de/termine/gruppen-und-vorstandsklausu
 r/
LOCATION:Historisch ökologische Bildungsstätte, Spillmannsweg 30, Papen
 burg
SUMMARY:Gruppen- und Vorstandsklausur
DESCRIPTION;ALTREP="data:text/html,":
CLASS:PUBLIC
DTSTART;TZID=Europe/Berlin:20230218T120000
DTEND;TZID=Europe/Berlin:20230219T150000
DTSTAMP:20260423T101153
END:VEVENT
END:VCALENDAR